BEGIN:VCALENDAR
VERSION:2.0
PRODID:SchoolNow
CALSCALE:GREGORIAN
BEGIN:VEVENT
UID:f53fec5e-38fe-11f1-84f1-023eb73d6f21
DTSTAMP:20260422T092100Z
SUMMARY:Day 1
URL;VALUE=URI:https://www.uticaschools.org/schools/proctor/calendar/8996491
 /day-1
DTSTART;VALUE=DATE:20260602
DTEND;VALUE=DATE:20260603
END:VEVENT
END:VCALENDAR
