BEGIN:VCALENDAR
VERSION:2.0
PRODID:SchoolNow
CALSCALE:GREGORIAN
BEGIN:VEVENT
UID:0418a242-2e0b-11f1-b82a-02c5f966e8f3
DTSTAMP:20260422T092100Z
SUMMARY:Day 1
URL;VALUE=URI:https://www.uticaschools.org/schools/proctor/calendar/8964077
 /day-1
DTSTART;VALUE=DATE:20260420
DTEND;VALUE=DATE:20260421
END:VEVENT
END:VCALENDAR
