BEGIN:VCALENDAR
VERSION:2.0
PRODID:SchoolNow
CALSCALE:GREGORIAN
BEGIN:VEVENT
UID:041898ec-2e0b-11f1-aba3-02c5f966e8f3
DTSTAMP:20260422T092100Z
SUMMARY:Day 2
URL;VALUE=URI:https://www.uticaschools.org/schools/proctor/calendar/8964072
 /day-2
DTSTART;VALUE=DATE:20260402
DTEND;VALUE=DATE:20260403
END:VEVENT
END:VCALENDAR
