BEGIN:VCALENDAR
VERSION:2.0
PRODID:SchoolNow
CALSCALE:GREGORIAN
BEGIN:VEVENT
UID:6777c83c-3fe9-11f1-9fe5-0ea0019768d3
DTSTAMP:20260424T142512Z
SUMMARY:Field Trip - Grade 5/6 - Nexus Center
URL;VALUE=URI:https://www.uticaschools.org/schools/kernan/calendar/9016569/
 field-trip-grade-5-6-nexus-center
DTSTART:20260507T160000Z
DTEND:20260507T163000Z
END:VEVENT
END:VCALENDAR
