BEGIN:VCALENDAR
VERSION:2.0
PRODID:SchoolNow
CALSCALE:GREGORIAN
BEGIN:VEVENT
UID:fc0e2b9c-217d-11f1-b5c9-0a58a9feac02
DTSTAMP:20260330T195547Z
SUMMARY:AP Biology Exam
URL;VALUE=URI:https://www.uticaschools.org/departments/guidance-counseling-
 services/calendar/8923024/ap-biology-exam
DTSTART:20260504T120000Z
DTEND:20260504T150000Z
END:VEVENT
END:VCALENDAR
