BEGIN:VCALENDAR
VERSION:2.0
PRODID:SchoolNow
CALSCALE:GREGORIAN
BEGIN:VEVENT
UID:2e8cc45e-dd8f-11ef-b143-0e956362e35d
DTSTAMP:20250128T154730Z
SUMMARY:(B) V Soccer - Practice (2:30 PM)
LOCATION:PHS Stadium (Turf Field/Track)
URL;VALUE=URI:https://www.uticaschools.org/departments/athletics/calendar/7
 386341/b-v-soccer-practice-2-30-pm
DTSTART:20241011T183000Z
DTEND:20241011T203000Z
END:VEVENT
END:VCALENDAR
