BEGIN:VCALENDAR
VERSION:2.0
PRODID:SchoolNow
CALSCALE:GREGORIAN
BEGIN:VEVENT
UID:2d387878-dd8f-11ef-b576-0e956362e35d
DTSTAMP:20250128T154728Z
SUMMARY:Boys (JFK) 7th/8th Soccer @ Whitesboro
LOCATION:Marcy Elementary  Soccer/Lacrosse Field
URL;VALUE=URI:https://www.uticaschools.org/departments/athletics/calendar/7
 386112/boys-jfk-7th-8th-soccer-whitesboro
DTSTART:20241016T203000Z
DTEND:20241016T220000Z
END:VEVENT
END:VCALENDAR
