BEGIN:VCALENDAR
VERSION:2.0
PRODID:SchoolNow
CALSCALE:GREGORIAN
BEGIN:VEVENT
UID:2d37fe48-dd8f-11ef-a382-0e956362e35d
DTSTAMP:20250128T154728Z
SUMMARY:Girls Varsity Soccer @ Holland Patent
LOCATION:HS Stadium / Track
URL;VALUE=URI:https://www.uticaschools.org/departments/athletics/calendar/7
 386067/girls-varsity-soccer-holland-patent
DTSTART:20241001T220000Z
DTEND:20241001T230000Z
END:VEVENT
END:VCALENDAR
